BEGIN:VCALENDAR
VERSION:2.0
PRODID:Events from www.apparelnews.net
X-WR-CALNAME:Events from www.apparelnews.net
X-WR-CALDESC:Events from www.apparelnews.net
BEGIN:VEVENT
SUMMARY:Northwest Shoe Travelers Market
URL;VALUE=URI:http://www.apparelnews.net/events/2018/mar/12/northwest-shoe-travelers-market-72b70f34/?et=10801
DTSTART:20180312
DESCRIPTION;ENCODING=QUOTED-PRINTABLE:www.nwshoetravelers.com

END:VEVENT
END:VCALENDAR
