BEGIN:VCALENDAR
VERSION:2.0
PRODID:Events from www.apparelnews.net
X-WR-CALNAME:Events from www.apparelnews.net
X-WR-CALDESC:Events from www.apparelnews.net
BEGIN:VEVENT
SUMMARY:I.L.M. International Leather Goods Fair
URL;VALUE=URI:http://www.apparelnews.net/events/2018/sep/01/ilm-international-leather-goods-fai-a5053ec0/?et=12674
DTSTART:20180901
DESCRIPTION;ENCODING=QUOTED-PRINTABLE:www.messe-offenbach.de

END:VEVENT
END:VCALENDAR
