BEGIN:VCALENDAR
VERSION:2.0
PRODID:Events from www.apparelnews.net
X-WR-CALNAME:Events from www.apparelnews.net
X-WR-CALDESC:Events from www.apparelnews.net
BEGIN:VEVENT
SUMMARY:International Home Tex Show
URL;VALUE=URI:http://www.apparelnews.net/events/2018/sep/29/international-yarn-fabric-show-6a38-11015ba8/?et=13079
DTSTART:20180929
DESCRIPTION;ENCODING=QUOTED-PRINTABLE:http://www.cems-hometex.com/

END:VEVENT
END:VCALENDAR
