BEGIN:VCALENDAR
VERSION:2.0
PRODID:Events from www.apparelnews.net
X-WR-CALNAME:Events from www.apparelnews.net
X-WR-CALDESC:Events from www.apparelnews.net
BEGIN:VEVENT
SUMMARY:Northwest Shoe Travelers Market
URL;VALUE=URI:http://www.apparelnews.net/events/2019/aug/18/northwest-shoe-travelers-market-72f-19ec963c/?et=13612
DTSTART:20190818
DESCRIPTION;ENCODING=QUOTED-PRINTABLE:www.nwshoetravelers.com

END:VEVENT
END:VCALENDAR
