BEGIN:VCALENDAR
VERSION:2.0
PRODID:Events from www.apparelnews.net
X-WR-CALNAME:Events from www.apparelnews.net
X-WR-CALDESC:Events from www.apparelnews.net
BEGIN:VEVENT
SUMMARY:Northstar Fashion Exhibitors
URL;VALUE=URI:http://www.apparelnews.net/events/2019/jan/20/northstar-fashion-exhibitors-90f8b3-645668c4/?et=13405
DTSTART:20190120
DESCRIPTION;ENCODING=QUOTED-PRINTABLE:www.northstarfashion.com; (612) 333-5219

END:VEVENT
END:VCALENDAR
