BEGIN:VCALENDAR
VERSION:2.0
PRODID:Events from www.apparelnews.net
X-WR-CALNAME:Events from www.apparelnews.net
X-WR-CALDESC:Events from www.apparelnews.net
BEGIN:VEVENT
SUMMARY:Textech International Expo Sri Lanka
URL;VALUE=URI:http://www.apparelnews.net/events/2019/mar/09/textech-international-expo-tba-8332-aa4273b8/?et=13908
DTSTART:20190309
DESCRIPTION;ENCODING=QUOTED-PRINTABLE:www.cems-textech.com

END:VEVENT
END:VCALENDAR
