BEGIN:VCALENDAR
VERSION:2.0
PRODID:Events from www.apparelnews.net
X-WR-CALNAME:Events from www.apparelnews.net
X-WR-CALDESC:Events from www.apparelnews.net
BEGIN:VEVENT
SUMMARY:Norton's Apparel\, Jewelry & Gift Market
URL;VALUE=URI:http://www.apparelnews.net/events/2019/nov/16/nortons-apparel-jewelry-gift-market-85a63864/?et=14696
DTSTART:20191116
DESCRIPTION;ENCODING=QUOTED-PRINTABLE:www.nortonshows.com

END:VEVENT
END:VCALENDAR
