BEGIN:VCALENDAR
VERSION:2.0
PRODID:Events from www.apparelnews.net
X-WR-CALNAME:Events from www.apparelnews.net
X-WR-CALDESC:Events from www.apparelnews.net
BEGIN:VEVENT
SUMMARY:India International Trade Fair
URL;VALUE=URI:http://www.apparelnews.net/events/2019/nov/21/india-international-trade-fair-b20bf5c6/?et=16776
DTSTART:20191121
DESCRIPTION;ENCODING=QUOTED-PRINTABLE:http://indiatradefair.com/iilf/

END:VEVENT
END:VCALENDAR
