BEGIN:VCALENDAR
VERSION:2.0
PRODID:Events from www.apparelnews.net
X-WR-CALNAME:Events from www.apparelnews.net
X-WR-CALDESC:Events from www.apparelnews.net
BEGIN:VEVENT
SUMMARY:Northstar Fashion Exhibitors
URL;VALUE=URI:http://www.apparelnews.net/events/2019/oct/15/northstar-fashion-exhibitors-90f8b3-d2913de6/?et=13414
DTSTART:20191015
DESCRIPTION;ENCODING=QUOTED-PRINTABLE:www.northstarfashion.com; (612) 333-5219

END:VEVENT
END:VCALENDAR
