BEGIN:VCALENDAR
VERSION:2.0
PRODID:Events from www.apparelnews.net
X-WR-CALNAME:Events from www.apparelnews.net
X-WR-CALDESC:Events from www.apparelnews.net
BEGIN:VEVENT
SUMMARY:Colombo International Yarn & Fabric Show
URL;VALUE=URI:http://www.apparelnews.net/events/2019/sep/29/colombo-international-yarn-fabric-s-16241ed0/?et=15369
DTSTART:20190929
DESCRIPTION;ENCODING=QUOTED-PRINTABLE:http://www.cems-yarnandfabric.com

END:VEVENT
END:VCALENDAR
