BEGIN:VCALENDAR
VERSION:2.0
PRODID:Events from www.apparelnews.net
X-WR-CALNAME:Events from www.apparelnews.net
X-WR-CALDESC:Events from www.apparelnews.net
BEGIN:VEVENT
SUMMARY:Northstar Fashion Exhibitors **CANCELED--Next Show 10/31-11/2/20**
URL;VALUE=URI:http://www.apparelnews.net/events/2020/aug/25/northstar-fashion-exhibitors-90f8b3-b5085dd0/?et=16225
DTSTART:20200825
DESCRIPTION;ENCODING=QUOTED-PRINTABLE:www.northstarfashion.com\n\n(612) 333-5219

END:VEVENT
END:VCALENDAR
