BEGIN:VCALENDAR
VERSION:2.0
PRODID:Events from www.apparelnews.net
X-WR-CALNAME:Events from www.apparelnews.net
X-WR-CALDESC:Events from www.apparelnews.net
BEGIN:VEVENT
SUMMARY:Dye + Chem Sri Lanka International Expo
URL;VALUE=URI:http://www.apparelnews.net/events/2020/jun/13/dye-chem-sri-lanka-4c9109ae-a1aba2c-f2500212/?et=17575
DTSTART:20200613
DESCRIPTION;ENCODING=QUOTED-PRINTABLE:www.cems-dyechem.com

END:VEVENT
END:VCALENDAR
