BEGIN:VCALENDAR
VERSION:2.0
PRODID:Events from www.apparelnews.net
X-WR-CALNAME:Events from www.apparelnews.net
X-WR-CALDESC:Events from www.apparelnews.net
BEGIN:VEVENT
SUMMARY:Textech International Expo Sri Lanka
URL;VALUE=URI:http://www.apparelnews.net/events/2020/jun/13/textech-international-expo-tba-8332-476ff296/?et=16961
DTSTART:20200613
DESCRIPTION;ENCODING=QUOTED-PRINTABLE:www.cems-textech.com

END:VEVENT
END:VCALENDAR
