BEGIN:VCALENDAR
VERSION:2.0
PRODID:Events from www.apparelnews.net
X-WR-CALNAME:Events from www.apparelnews.net
X-WR-CALDESC:Events from www.apparelnews.net
BEGIN:VEVENT
SUMMARY:Northstar Fashion Exhibitors **CANCELED--Next Show 8/23-25/20**
URL;VALUE=URI:http://www.apparelnews.net/events/2020/jun/28/northstar-fashion-exhibitors-90f8b3-83e2198a/?et=16222
DTSTART:20200628
DESCRIPTION;ENCODING=QUOTED-PRINTABLE:www.northstarfashion.com\n\n(612) 333-5219

END:VEVENT
END:VCALENDAR
