BEGIN:VCALENDAR
VERSION:2.0
PRODID:Events from www.apparelnews.net
X-WR-CALNAME:Events from www.apparelnews.net
X-WR-CALDESC:Events from www.apparelnews.net
BEGIN:VEVENT
SUMMARY:Label Array
URL;VALUE=URI:http://www.apparelnews.net/events/2020/mar/11/label-array-9c690500-5356f8b2-17c10fce/?et=16752
DTSTART:20200311
DESCRIPTION;ENCODING=QUOTED-PRINTABLE:www.cmcdtla.com

END:VEVENT
END:VCALENDAR
