BEGIN:VCALENDAR
VERSION:2.0
PRODID:Events from www.apparelnews.net
X-WR-CALNAME:Events from www.apparelnews.net
X-WR-CALDESC:Events from www.apparelnews.net
BEGIN:VEVENT
SUMMARY:Norton's Apparel\, Jewelry & Gift Market
URL;VALUE=URI:http://www.apparelnews.net/events/2020/nov/16/nortons-apparel-jewelry-gift-market-f6f58020/?et=18209
DTSTART:20201116
DESCRIPTION;ENCODING=QUOTED-PRINTABLE:http://www.nortonshows.com/

END:VEVENT
END:VCALENDAR
