BEGIN:VCALENDAR
VERSION:2.0
PRODID:Events from www.apparelnews.net
X-WR-CALNAME:Events from www.apparelnews.net
X-WR-CALDESC:Events from www.apparelnews.net
BEGIN:VEVENT
SUMMARY:Norton's Apparel\, Jewelry & Gift Market
URL;VALUE=URI:http://www.apparelnews.net/events/2021/apr/25/nortons-apparel-jewelry-gift-market-e0c6ff4a/?et=19134
DTSTART:20210425
DESCRIPTION;ENCODING=QUOTED-PRINTABLE:http://www.nortonshows.com/

END:VEVENT
END:VCALENDAR
