BEGIN:VCALENDAR
VERSION:2.0
PRODID:Events from www.apparelnews.net
X-WR-CALNAME:Events from www.apparelnews.net
X-WR-CALDESC:Events from www.apparelnews.net
BEGIN:VEVENT
SUMMARY:Las Vegas Apparel
URL;VALUE=URI:http://www.apparelnews.net/events/2021/aug/10/las-vegas-apparel/?et=19195
DTSTART:20210810
DESCRIPTION;ENCODING=QUOTED-PRINTABLE:https://www.lasvegasmarket.com/

END:VEVENT
END:VCALENDAR
