BEGIN:VCALENDAR
VERSION:2.0
PRODID:Events from www.apparelnews.net
X-WR-CALNAME:Events from www.apparelnews.net
X-WR-CALDESC:Events from www.apparelnews.net
BEGIN:VEVENT
SUMMARY:Techtextil North America
URL;VALUE=URI:http://www.apparelnews.net/events/2021/aug/23/texprocess-americas-33ffc322-db9689-f439a02e/?et=17837
DTSTART:20210823
DESCRIPTION;ENCODING=QUOTED-PRINTABLE:https://techtextil-northamerica.us.messefrankfurt.com

END:VEVENT
END:VCALENDAR
