BEGIN:VCALENDAR
VERSION:2.0
PRODID:Events from www.apparelnews.net
X-WR-CALNAME:Events from www.apparelnews.net
X-WR-CALDESC:Events from www.apparelnews.net
BEGIN:VEVENT
SUMMARY:Premiere Vision New York **POSTPONED**
URL;VALUE=URI:http://www.apparelnews.net/events/2021/jan/19/premiere-vision-new-york-7b6fff12-5-092efa0e/?et=17759
DTSTART:20210119
DESCRIPTION;ENCODING=QUOTED-PRINTABLE:https://www.premierevision-newyork.com/

END:VEVENT
END:VCALENDAR
