BEGIN:VCALENDAR
VERSION:2.0
PRODID:Events from www.apparelnews.net
X-WR-CALNAME:Events from www.apparelnews.net
X-WR-CALDESC:Events from www.apparelnews.net
BEGIN:VEVENT
SUMMARY:Dye + Chem Sri Lanka
URL;VALUE=URI:http://www.apparelnews.net/events/2021/mar/04/dye-chem-sri-lanka-4c9109ae-a1aba2c-25ad3e0a/?et=19147
DTSTART:20210304
DESCRIPTION;ENCODING=QUOTED-PRINTABLE:www.cems-dyechem.com

END:VEVENT
END:VCALENDAR
