BEGIN:VCALENDAR
VERSION:2.0
PRODID:Events from www.apparelnews.net
X-WR-CALNAME:Events from www.apparelnews.net
X-WR-CALDESC:Events from www.apparelnews.net
BEGIN:VEVENT
SUMMARY:Smoky Mountain Gift Show
URL;VALUE=URI:http://www.apparelnews.net/events/2021/nov/13/smoky-mountain-gift-show-tba-43d8c6-c29beb5e/?et=20043
DTSTART:20211113
DESCRIPTION;ENCODING=QUOTED-PRINTABLE:www.urban-expo.com

END:VEVENT
END:VCALENDAR
