BEGIN:VCALENDAR
VERSION:2.0
PRODID:Events from www.apparelnews.net
X-WR-CALNAME:Events from www.apparelnews.net
X-WR-CALDESC:Events from www.apparelnews.net
BEGIN:VEVENT
SUMMARY:ILM International Leather Goods Fair
URL;VALUE=URI:http://www.apparelnews.net/events/2021/sep/04/ilm-international-leather-goods-fai-da886e30/?et=18203
DTSTART:20210904
DESCRIPTION;ENCODING=QUOTED-PRINTABLE:https://www.ilm-offenbach.de/\n\nwww.messe-offenbach.de\n\n&nbsp;

END:VEVENT
END:VCALENDAR
