BEGIN:VCALENDAR
VERSION:2.0
PRODID:Events from www.apparelnews.net
X-WR-CALNAME:Events from www.apparelnews.net
X-WR-CALDESC:Events from www.apparelnews.net
BEGIN:VEVENT
SUMMARY:IFJAG Las Vegas
URL;VALUE=URI:http://www.apparelnews.net/events/2022/feb/12/ifjag-tba-5520961c-e3f04244-3eddf27-86ec411e/?et=19665
DTSTART:20220212
DESCRIPTION;ENCODING=QUOTED-PRINTABLE:https://ifjag.com/\n\nInternational Fashion Jewlry &amp; Accessory Group

END:VEVENT
END:VCALENDAR
