BEGIN:VCALENDAR
VERSION:2.0
PRODID:Events from www.apparelnews.net
X-WR-CALNAME:Events from www.apparelnews.net
X-WR-CALDESC:Events from www.apparelnews.net
BEGIN:VEVENT
SUMMARY:Fashn Rooms
URL;VALUE=URI:http://www.apparelnews.net/events/2022/jul/21/fashn-rooms-2f1f5320/?et=20953
DTSTART:20220721
DESCRIPTION;ENCODING=QUOTED-PRINTABLE:https://fashn-rooms.com/?lang=en

END:VEVENT
END:VCALENDAR
