BEGIN:VCALENDAR
VERSION:2.0
PRODID:Events from www.apparelnews.net
X-WR-CALNAME:Events from www.apparelnews.net
X-WR-CALDESC:Events from www.apparelnews.net
BEGIN:VEVENT
SUMMARY:Northwest Shoe Travelers Market
URL;VALUE=URI:http://www.apparelnews.net/events/2022/jul/31/northwest-shoe-travelers-market-90f-c376e98c/?et=19800
DTSTART:20220731
DESCRIPTION;ENCODING=QUOTED-PRINTABLE:www.nwshoetravelers.com

END:VEVENT
END:VCALENDAR
