BEGIN:VCALENDAR
VERSION:2.0
PRODID:Events from www.apparelnews.net
X-WR-CALNAME:Events from www.apparelnews.net
X-WR-CALDESC:Events from www.apparelnews.net
BEGIN:VEVENT
SUMMARY:Label Array x Vegan World
URL;VALUE=URI:http://www.apparelnews.net/events/2022/jun/15/label-array-9c690500-5356f8b2-17c10-055f7876/?et=20545
DTSTART:20220615
DESCRIPTION;ENCODING=QUOTED-PRINTABLE:https://www.californiamarketcenter.com/eventscalendar/2019/6/17/label-array\n\nhttps://www.veganfashionweek.org/\n\n&nbsp;

END:VEVENT
END:VCALENDAR
