BEGIN:VCALENDAR
VERSION:2.0
PRODID:Events from www.apparelnews.net
X-WR-CALNAME:Events from www.apparelnews.net
X-WR-CALDESC:Events from www.apparelnews.net
BEGIN:VEVENT
SUMMARY:12th Annual Sketch to Screen Costume Design Panel
URL;VALUE=URI:http://www.apparelnews.net/events/2022/mar/26/11th-annual-sketch-screen-costume-d-e6020a42/?et=20769
DTSTART:20220326T110000
DESCRIPTION;ENCODING=QUOTED-PRINTABLE:https://ucla.zoom.us/webinar/register/WN_rsL9kqUkQK6ybYJQvoyqlQ\n\nUCLA School of Theater\, Film and Television&#39;s Sketch to Screen Costume Design Panel is a celebration of costume design and includes costume designers nominated for Academy Awards in 2021.

END:VEVENT
END:VCALENDAR
