BEGIN:VCALENDAR
VERSION:2.0
PRODID:Events from www.apparelnews.net
X-WR-CALNAME:Events from www.apparelnews.net
X-WR-CALDESC:Events from www.apparelnews.net
BEGIN:VEVENT
SUMMARY:Label Array
URL;VALUE=URI:http://www.apparelnews.net/events/2022/oct/12/label-array-9c690500-5356f8b2-17c10-7c11e864/?et=18612
DTSTART:20221012
DESCRIPTION;ENCODING=QUOTED-PRINTABLE:www.cmcdtla.com

END:VEVENT
END:VCALENDAR
