BEGIN:VCALENDAR
VERSION:2.0
PRODID:Events from www.apparelnews.net
X-WR-CALNAME:Events from www.apparelnews.net
X-WR-CALDESC:Events from www.apparelnews.net
BEGIN:VEVENT
SUMMARY:ILM International Leather Goods Fair
URL;VALUE=URI:http://www.apparelnews.net/events/2022/sep/05/ilm-international-leather-goods-fai-96b9f4a6/?et=19974
DTSTART:20220905
DESCRIPTION;ENCODING=QUOTED-PRINTABLE:https://www.ilm-offenbach.de/\n\nwww.messe-offenbach.de\n\n&nbsp;

END:VEVENT
END:VCALENDAR
