BEGIN:VCALENDAR
VERSION:2.0
PRODID:Events from www.apparelnews.net
X-WR-CALNAME:Events from www.apparelnews.net
X-WR-CALDESC:Events from www.apparelnews.net
BEGIN:VEVENT
SUMMARY:VOW Bridal & Formal Las Vegas
URL;VALUE=URI:http://www.apparelnews.net/events/2023/aug/14/vow-new-world-of-bridal-fffe752e-ca-ac59b1d4/?et=22663
DTSTART:20230814
DESCRIPTION;ENCODING=QUOTED-PRINTABLE:https://www.atlanta-apparel.com/Markets/VOW-Bridal-and-Formal/August-LV?_ga=2.234932358.604007703.1658957566-598869904.1658957566

END:VEVENT
END:VCALENDAR
