BEGIN:VCALENDAR
VERSION:2.0
PRODID:Events from www.apparelnews.net
X-WR-CALNAME:Events from www.apparelnews.net
X-WR-CALDESC:Events from www.apparelnews.net
BEGIN:VEVENT
SUMMARY:Northern Michigan Show
URL;VALUE=URI:http://www.apparelnews.net/events/2023/feb/08/northern-michigan-bdd-efc5ab5c-8277-07f07bfe/?et=21724
DTSTART:20230208
DESCRIPTION;ENCODING=QUOTED-PRINTABLE:http://www.silverliningshows.com/

END:VEVENT
END:VCALENDAR
