BEGIN:VCALENDAR
VERSION:2.0
PRODID:Events from www.apparelnews.net
X-WR-CALNAME:Events from www.apparelnews.net
X-WR-CALDESC:Events from www.apparelnews.net
BEGIN:VEVENT
SUMMARY:London Fashion Week
URL;VALUE=URI:http://www.apparelnews.net/events/2023/jun/10/london-fashion-week-92cec778-8c7381-63e01a6a/?et=22438
DTSTART:20230610
DESCRIPTION;ENCODING=QUOTED-PRINTABLE:https://londonfashionweek.co.uk/\n\nOnline and various locations around London

END:VEVENT
END:VCALENDAR
