BEGIN:VCALENDAR
VERSION:2.0
PRODID:Events from www.apparelnews.net
X-WR-CALNAME:Events from www.apparelnews.net
X-WR-CALDESC:Events from www.apparelnews.net
BEGIN:VEVENT
SUMMARY:ILM International Leather Goods Fair
URL;VALUE=URI:http://www.apparelnews.net/events/2023/sep/03/ilm-international-leather-goods-fai-4aed2e18/?et=22681
DTSTART:20230903
DESCRIPTION;ENCODING=QUOTED-PRINTABLE:https://www.ilm-offenbach.de/\n\nwww.messe-offenbach.de\n\n&nbsp;

END:VEVENT
END:VCALENDAR
