BEGIN:VCALENDAR
VERSION:2.0
PRODID:Events from www.apparelnews.net
X-WR-CALNAME:Events from www.apparelnews.net
X-WR-CALDESC:Events from www.apparelnews.net
BEGIN:VEVENT
SUMMARY:WWIN
URL;VALUE=URI:http://www.apparelnews.net/events/2024/aug/21/wwin-a3bafda8-aefe3ed6-bce19ec2-953-80757c1a/?et=24317
DTSTART:20240821
DESCRIPTION;ENCODING=QUOTED-PRINTABLE:http://www.wwinshow.com

END:VEVENT
END:VCALENDAR
