BEGIN:VCALENDAR
VERSION:2.0
PRODID:Events from www.apparelnews.net
X-WR-CALNAME:Events from www.apparelnews.net
X-WR-CALDESC:Events from www.apparelnews.net
BEGIN:VEVENT
SUMMARY:Top Drawer
URL;VALUE=URI:http://www.apparelnews.net/events/2024/jan/14/top-drawer/?et=24168
DTSTART:20240114
DESCRIPTION;ENCODING=QUOTED-PRINTABLE:https://www.topdrawer.co.uk/

END:VEVENT
END:VCALENDAR
