BEGIN:VCALENDAR
VERSION:2.0
PRODID:Events from www.apparelnews.net
X-WR-CALNAME:Events from www.apparelnews.net
X-WR-CALDESC:Events from www.apparelnews.net
BEGIN:VEVENT
SUMMARY:Northstar Fashion Exhibitors
URL;VALUE=URI:http://www.apparelnews.net/events/2024/jun/19/northstar-fashion-exhibitors-90f8b3-69da3e66/?et=23743
DTSTART:20240619
DESCRIPTION;ENCODING=QUOTED-PRINTABLE:www.northstarfashion.com\n\n(612) 333-5219

END:VEVENT
END:VCALENDAR
