BEGIN:VCALENDAR
VERSION:2.0
PRODID:Events from www.apparelnews.net
X-WR-CALNAME:Events from www.apparelnews.net
X-WR-CALDESC:Events from www.apparelnews.net
BEGIN:VEVENT
SUMMARY:ILM International trade Fair for Leather Goods
URL;VALUE=URI:http://www.apparelnews.net/events/2025/aug/31/ilm-international-trade-fair-for-le-5ef3e9bc/?et=25621
DTSTART:20250831
DESCRIPTION;ENCODING=QUOTED-PRINTABLE:https://www.ilm-offenbach.de/en/

END:VEVENT
END:VCALENDAR
