BEGIN:VCALENDAR
VERSION:2.0
PRODID:Events from www.apparelnews.net
X-WR-CALNAME:Events from www.apparelnews.net
X-WR-CALDESC:Events from www.apparelnews.net
BEGIN:VEVENT
SUMMARY:LA Textile Show @ CMC
URL;VALUE=URI:http://www.apparelnews.net/events/2025/feb/25/la-textile-9393741e-fbe393c2-c5de4a-837374a4/?et=24744
DTSTART:20250225
DESCRIPTION;ENCODING=QUOTED-PRINTABLE:www.californiamarketcenter.com\n\n(213) 630-3600

END:VEVENT
END:VCALENDAR
