BEGIN:VCALENDAR
VERSION:2.0
PRODID:Events from www.apparelnews.net
X-WR-CALNAME:Events from www.apparelnews.net
X-WR-CALDESC:Events from www.apparelnews.net
BEGIN:VEVENT
SUMMARY:Printsource Los Angeles
URL;VALUE=URI:http://www.apparelnews.net/events/2025/jul/30/printsource-los-angeles-1f275c78/?et=25600
DTSTART:20250730
DESCRIPTION;ENCODING=QUOTED-PRINTABLE:http://www.printsourcenewyork.com/

END:VEVENT
END:VCALENDAR
