BEGIN:VCALENDAR
VERSION:2.0
PRODID:Events from www.apparelnews.net
X-WR-CALNAME:Events from www.apparelnews.net
X-WR-CALDESC:Events from www.apparelnews.net
BEGIN:VEVENT
SUMMARY:Comocrea Textile Design Show
URL;VALUE=URI:http://www.apparelnews.net/events/2025/oct/21/comocrea-1-28f64984-9b8d7f3c-70abc466/?et=25722
DTSTART:20251021
DESCRIPTION;ENCODING=QUOTED-PRINTABLE:https://www.comocrea.com/Textile Design Show

END:VEVENT
END:VCALENDAR
