BEGIN:VCALENDAR
VERSION:2.0
PRODID:Events from www.apparelnews.net
X-WR-CALNAME:Events from www.apparelnews.net
X-WR-CALDESC:Events from www.apparelnews.net
BEGIN:VEVENT
SUMMARY:PI Apparel West Coast 2025
URL;VALUE=URI:http://www.apparelnews.net/events/2025/sep/30/pi-apparel-west-coast-2025/?et=25923
DTSTART:20250930
DESCRIPTION;ENCODING=QUOTED-PRINTABLE:PI Apparel West Coast 2025

END:VEVENT
END:VCALENDAR
