BEGIN:VCALENDAR
VERSION:2.0
PRODID:Events from www.apparelnews.net
X-WR-CALNAME:Events from www.apparelnews.net
X-WR-CALDESC:Events from www.apparelnews.net
BEGIN:VEVENT
SUMMARY:ILM International Trade Fair for Leather Goods
URL;VALUE=URI:http://www.apparelnews.net/events/2026/aug/31/ilm-international-trade-fair-for-le-d1490106/?et=26970
DTSTART:20260831
DESCRIPTION;ENCODING=QUOTED-PRINTABLE:https://www.ilm-offenbach.de/en/

END:VEVENT
END:VCALENDAR
