BEGIN:VCALENDAR
VERSION:2.0
PRODID:Events from www.apparelnews.net
X-WR-CALNAME:Events from www.apparelnews.net
X-WR-CALDESC:Events from www.apparelnews.net
BEGIN:VEVENT
SUMMARY:Northwest Shoe Travelers Market
URL;VALUE=URI:http://www.apparelnews.net/events/2026/jan/16/northwest-shoe-travelers-market-90f-27c8a9a8/?et=25776
DTSTART:20260116
DESCRIPTION;ENCODING=QUOTED-PRINTABLE:www.nwshoetravelers.com

END:VEVENT
END:VCALENDAR
