BEGIN:VCALENDAR
VERSION:2.0
PRODID:Events from www.apparelnews.net
X-WR-CALNAME:Events from www.apparelnews.net
X-WR-CALDESC:Events from www.apparelnews.net
BEGIN:VEVENT
SUMMARY:Summer Atlanta Market
URL;VALUE=URI:http://www.apparelnews.net/events/2026/jun/10/august-atlanta-apparel-b0ab5134-21d-585ce89a/?et=26082
DTSTART:20260610
DESCRIPTION;ENCODING=QUOTED-PRINTABLE:http://www.americasmart.comThe Premier Gift\, D&eacute;cor and Lifestyle Market

END:VEVENT
END:VCALENDAR
