BEGIN:VCALENDAR
VERSION:2.0
PRODID:Events from www.apparelnews.net
X-WR-CALNAME:Events from www.apparelnews.net
X-WR-CALDESC:Events from www.apparelnews.net
BEGIN:VEVENT
SUMMARY:Fashion Industry Gallery (FIG) June Apparel & Accessories
URL;VALUE=URI:http://www.apparelnews.net/events/2026/jun/18/fashion-industry-gallery-fig-af3ba1-c6ab3a4a/?et=25904
DTSTART:20260618
DESCRIPTION;ENCODING=QUOTED-PRINTABLE:www.fashionindustrygallery.com\n\n(214) 748-4FIG

END:VEVENT
END:VCALENDAR
