BEGIN:VCALENDAR
VERSION:2.0
PRODID:Events from www.apparelnews.net
X-WR-CALNAME:Events from www.apparelnews.net
X-WR-CALDESC:Events from www.apparelnews.net
BEGIN:VEVENT
SUMMARY:Matter and Shape
URL;VALUE=URI:http://www.apparelnews.net/events/2026/mar/07/matter-and-shape-a3487058/?et=26761
DTSTART:20260307
DESCRIPTION;ENCODING=QUOTED-PRINTABLE:https://whosnext.com/events/matter-and-shape

END:VEVENT
END:VCALENDAR
