BEGIN:VCALENDAR
VERSION:2.0
PRODID:Events from www.apparelnews.net
X-WR-CALNAME:Events from www.apparelnews.net
X-WR-CALDESC:Events from www.apparelnews.net
BEGIN:VEVENT
SUMMARY:Northwest Materials Show
URL;VALUE=URI:http://www.apparelnews.net/events/2026/mar/11/the-materials-show-ffd746a2-480639f-9bc2c4c0/?et=26690
DTSTART:20260311
DESCRIPTION;ENCODING=QUOTED-PRINTABLE:http://www.americanevents.com/info@americanevents.com

END:VEVENT
END:VCALENDAR
