BEGIN:VCALENDAR
VERSION:2.0
PRODID:Events from www.apparelnews.net
X-WR-CALNAME:Events from www.apparelnews.net
X-WR-CALDESC:Events from www.apparelnews.net
BEGIN:VEVENT
SUMMARY:Atlanta Apparel
URL;VALUE=URI:http://www.apparelnews.net/events/2026/mar/30/august-atlanta-apparel-b0ab5134-21d-39ff2cfe/?et=26056
DTSTART:20260330
DESCRIPTION;ENCODING=QUOTED-PRINTABLE:http://www.americasmart.com

END:VEVENT
END:VCALENDAR
