BEGIN:VCALENDAR
VERSION:2.0
PRODID:Events from www.apparelnews.net
X-WR-CALNAME:Events from www.apparelnews.net
X-WR-CALDESC:Events from www.apparelnews.net
BEGIN:VEVENT
SUMMARY:Who's Next\, IMPACT x Neonyt Paris\, Bijorhca
URL;VALUE=URI:http://www.apparelnews.net/events/2026/sep/07/whos-next-impact-x-neonyt-paris-bij-50c2e44a/?et=26430
DTSTART:20260907
DESCRIPTION;ENCODING=QUOTED-PRINTABLE:https://whosnext.com/en/

END:VEVENT
END:VCALENDAR
